BEGIN:VCALENDAR
VERSION:2.0
PRODID:-//ChamberMaster//Event Calendar 2.0//EN
METHOD:PUBLISH
X-PUBLISHED-TTL:P3D
REFRESH-INTERVAL:P3D
CALSCALE:GREGORIAN
BEGIN:VEVENT
DTSTART:20200616T150000Z
DTEND:20200616T163000Z
X-MICROSOFT-CDO-ALLDAYEVENT:FALSE
SUMMARY:Workforce Housing\, Transportation & Daycare Committee
DESCRIPTION:
X-ALT-DESC;FMTTYPE=text/html:
LOCATION:Bozeman Area Chamber of Commerce 2000 Commerce Way Bozeman\, MT
UID:e.2218.13161
SEQUENCE:3
DTSTAMP:20260419T185838Z
URL:https://members.bozemanchamber.com/events/details/workforce-housing-transportation-daycare-committee-13161
END:VEVENT

END:VCALENDAR
