BEGIN:VCALENDAR
VERSION:2.0
PRODID:-//ChamberMaster//Event Calendar 2.0//EN
METHOD:PUBLISH
X-PUBLISHED-TTL:P3D
REFRESH-INTERVAL:P3D
CALSCALE:GREGORIAN
BEGIN:VEVENT
DTSTART:20200808T170000Z
DTEND:20200809T010000Z
X-MICROSOFT-CDO-ALLDAYEVENT:FALSE
SUMMARY:Sweet SLAM Tour D'Arte
DESCRIPTION:Sweet Pea and SLAM are excited to collaborate and present the "Sweet SLAM Tour d'Arte and Auction."  The Tour d'Arte is scheduled for August 8th\, 2020 from 11am-7 pm. The tour will afford you the opportunity to shop with Montana artists at locations all over town. Much like stopping by an artist's booth at SLAM or Sweet Pea\, each artist will have their work set up in a booth outside their home or studio. A handful of Montana artists from out of town will be co-located in small groups. Please remember to wear a mask and be aware of how close you are to other patrons and the artists. We want you all to stay safe!\n\nMaps with participating artists and their locations will be available here and on our websites at the end of July. In addition to the physical tour\, we will host an online auction comprised of amazing works by the Tour artists and more! This virtual auction is the perfect opportunity for you to bid on artwork and own a piece of original work from some of Montana's premier artists without ever leaving your home.
X-ALT-DESC;FMTTYPE=text/html:<p style="font-family: proxima-nova\; line-height: 1.7em\; font-size: 16px\; margin: 0px 0px 28px\; overflow-wrap: break-word\; color: rgb(66\, 66\, 66)\; white-space: pre-wrap\;">Sweet Pea and SLAM are excited to collaborate and present the &ldquo\;Sweet SLAM Tour d&rsquo\;Arte and Auction.&rdquo\;&nbsp\; The Tour d&rsquo\;Arte is scheduled for August 8th\, 2020 from 11am-7 pm. The tour will afford you the opportunity to shop with Montana artists at locations all over town. Much like stopping by an artist&rsquo\;s booth at SLAM or Sweet Pea\, each artist will have their work set up in a booth outside their home or studio. A handful of Montana artists from out of town will be co-located in small groups. Please remember to wear a mask and be aware of how close you are to other patrons and the artists. We want you all to stay safe!</p>\n\n<p style="font-family: proxima-nova\; line-height: 1.7em\; font-size: 16px\; margin: 0px\; overflow-wrap: break-word\; color: rgb(66\, 66\, 66)\; white-space: pre-wrap\;">Maps with participating artists and their locations will be available here and on our websites at the end of July. In addition to the physical tour\, we will host an online auction comprised of amazing works by the Tour artists and more! This virtual auction is the perfect opportunity for you to bid on artwork and own a piece of original work from some of Montana&rsquo\;s premier artists without ever leaving your home.</p>\n
LOCATION:
UID:e.2218.13339
SEQUENCE:3
DTSTAMP:20260419T161409Z
URL:https://members.bozemanchamber.com/events/details/sweet-slam-tour-d-arte-13339
END:VEVENT

END:VCALENDAR
