BEGIN:VCALENDAR
VERSION:2.0
PRODID:-//ChamberMaster//Event Calendar 2.0//EN
METHOD:PUBLISH
X-PUBLISHED-TTL:P3D
REFRESH-INTERVAL:P3D
CALSCALE:GREGORIAN
BEGIN:VEVENT
DTSTART;VALUE=DATE:20200807
DTEND;VALUE=DATE:20200809
TRANSP:TRANSPARENT
X-MICROSOFT-CDO-ALLDAYEVENT:TRUE
SUMMARY:Sweet Pea Flower Show
DESCRIPTION:Enter your sweet peas on Friday\, August 7 at 11:00am-2:00pm.\n\nSee the entries August 7 from 3:00-7:00pm & August 8 10:00am - 6:00pm
X-ALT-DESC;FMTTYPE=text/html:Enter your sweet peas on Friday\, August 7 at 11:00am-2:00pm.<br />\nSee the entries August 7 from 3:00-7:00pm &amp\; August 8 10:00am - 6:00pm&nbsp\;
LOCATION:Jacob's Crossing Lobby 424 E. Main St.
UID:e.2218.13337
SEQUENCE:3
DTSTAMP:20260419T161232Z
URL:https://members.bozemanchamber.com/events/details/sweet-pea-flower-show-13337
END:VEVENT

END:VCALENDAR
