BEGIN:VCALENDAR
VERSION:2.0
PRODID:-//ChamberMaster//Event Calendar 2.0//EN
METHOD:PUBLISH
X-PUBLISHED-TTL:P3D
REFRESH-INTERVAL:P3D
CALSCALE:GREGORIAN
BEGIN:VEVENT
DTSTART;VALUE=DATE:20200727
DTEND;VALUE=DATE:20200810
TRANSP:TRANSPARENT
X-MICROSOFT-CDO-ALLDAYEVENT:TRUE
SUMMARY:Sweet Pea “Beer Garden”
DESCRIPTION:Special "Beer Garden" offers at Shine Beer Sanctuary (July 27-August 9)\n\nShine will donate $1 to Sweet Pea for every growler sold
X-ALT-DESC;FMTTYPE=text/html:<span style="font-family: proxima-nova\, sans-serif\; font-size: 14px\; text-align: center\;">Special &ldquo\;Beer Garden&rdquo\; offers at Shine Beer Sanctuary (July 27-August 9)</span><br style="box-sizing: border-box\; font-family: proxima-nova\, sans-serif\; font-size: 14px\; text-align: center\;" />\n<span style="font-family: proxima-nova\, sans-serif\; font-size: 14px\; text-align: center\;">Shine will donate $1 to Sweet Pea for every growler sold</span>
LOCATION:
UID:e.2218.13344
SEQUENCE:3
DTSTAMP:20260419T172223Z
URL:https://members.bozemanchamber.com/events/details/sweet-pea-beer-garden-13344
END:VEVENT

END:VCALENDAR
