BEGIN:VCALENDAR
VERSION:2.0
PRODID:-//ChamberMaster//Event Calendar 2.0//EN
METHOD:PUBLISH
X-PUBLISHED-TTL:P3D
REFRESH-INTERVAL:P3D
CALSCALE:GREGORIAN
BEGIN:VEVENT
DTSTART:20200409T150000Z
DTEND:20200409T160000Z
X-MICROSOFT-CDO-ALLDAYEVENT:FALSE
SUMMARY:POSTPONED - HVAC Committee
DESCRIPTION:
X-ALT-DESC;FMTTYPE=text/html:
LOCATION:Bozeman Area Chamber of Commerce 2000 Commerce Way Bozeman\, MT
UID:e.2218.13162
SEQUENCE:3
DTSTAMP:20260419T220911Z
URL:https://members.bozemanchamber.com/events/details/postponed-hvac-committee-13162
END:VEVENT

END:VCALENDAR
