BEGIN:VCALENDAR
VERSION:2.0
PRODID:-//ChamberMaster//Event Calendar 2.0//EN
METHOD:PUBLISH
X-PUBLISHED-TTL:P3D
REFRESH-INTERVAL:P3D
CALSCALE:GREGORIAN
BEGIN:VEVENT
DTSTART:20200812T173000Z
DTEND:20200812T193000Z
X-MICROSOFT-CDO-ALLDAYEVENT:FALSE
SUMMARY:Lunch on the Lawn
DESCRIPTION:The Emerson Center for the Arts and Culture presents the summer Lunch on the Lawn music series.  A summertime tradition\, this community event features live music\, local food vendors\, and kids? activities. Spend your Wednesday lunch hours listening to live music and soaking up the sun on the Emerson?s west law. Lunch on the Lawn is a FREE event. Call the Emerson for more information at 587-9797 or visit www.theemerson.org.
X-ALT-DESC;FMTTYPE=text/html:<span style="font-family: arial\; font-size: 14px\;">The Emerson Center for the Arts and Culture presents the summer&nbsp\;</span><em style="font-family: arial\; font-size: 14px\;">Lunch on the Lawn music&nbsp\;</em><span style="font-family: arial\; font-size: 14px\;">series.&nbsp\; A summertime tradition\, this community event features live music\, local food vendors\, and kids? activities. Spend your Wednesday lunch hours listening to live music and soaking up the sun on the Emerson?s west law. Lunch on the Lawn is a FREE event. Call the Emerson for more information at 587-9797 or visit&nbsp\;</span><a href="http://www.theemerson.org/" style="font-family: arial\; font-size: 14px\;"><span style="color: windowtext\;">www.theemerson.org</span></a><span style="font-family: arial\; font-size: 14px\;">.&nbsp\; &nbsp\;&nbsp\;</span>
LOCATION:Downtown Bozeman
UID:e.2218.13314
SEQUENCE:3
DTSTAMP:20260419T161356Z
URL:https://members.bozemanchamber.com/events/details/lunch-on-the-lawn-08-12-2020-13314
END:VEVENT

END:VCALENDAR
