BEGIN:VCALENDAR
VERSION:2.0
PRODID:-//ChamberMaster//Event Calendar 2.0//EN
METHOD:PUBLISH
X-PUBLISHED-TTL:P3D
REFRESH-INTERVAL:P3D
CALSCALE:GREGORIAN
BEGIN:VEVENT
DTSTART:20260509T000000Z
DTEND:20260509T040000Z
X-MICROSOFT-CDO-ALLDAYEVENT:FALSE
SUMMARY:Hawkers Make History
DESCRIPTION:Come join us for a fun evening fundraiser at the Rialto to support the Bozeman High School Speech & Debate team - the Montana State AA Champions!  All proceeds will go towards offsetting the cost of sending students to the National Championships and to Tanzania this summer to coach speech and debate as part of the Pan-African Speech and Debate League.\n\n \n\nThere will be entertainment by Last Best Comedy\, food by Bodhi Farms\, a full cash bar by Gute Laune\, and a raffle and silent auction\, not to mention performances by Hawkers!  \n\n \n\nBuy tickets here: https://www.zeffy.com/en-US/ticketing/hawkers-make-history\n\n \n\nWebsite and info: https://www.bozemanhighhawkers.com/hawkers-make-history-2026
X-ALT-DESC;FMTTYPE=text/html:<p style="color: rgb(36\, 36\, 36)\; font-family: &quot\;Helvetica Neue&quot\;\; margin: 0px\; font-variant-numeric: normal\; font-feature-settings: normal\; font-variant-east-asian: normal\; font-size-adjust: none\; line-height: normal\; font-variant-alternates: normal\; font-kerning: auto\;"><b data-olk-copy-source="MessageBody">Come join us for a fun evening fundraiser at the Rialto to support the Bozeman High School Speech &amp\; Debate team - the Montana State AA Champions!<span style="border: 0px\; font: inherit\; margin: 0px\; padding: 0px\; vertical-align: baseline\; color: inherit\;">&nbsp\;&nbsp\;</span>All proceeds will go towards offsetting the cost of sending students to the National Championships and to Tanzania this summer to coach speech and debate as part of the Pan-African Speech and Debate League.</b></p>\n\n<p style="color: rgb(36\, 36\, 36)\; font-family: &quot\;Helvetica Neue&quot\;\; margin: 0px\; font-variant-east-asian: normal\; font-variant-numeric: normal\; min-height: 15px\; font-feature-settings: normal\; font-size-adjust: none\; line-height: normal\; font-variant-alternates: normal\; font-kerning: auto\;">&nbsp\;</p>\n\n<p style="color: rgb(36\, 36\, 36)\; font-family: &quot\;Helvetica Neue&quot\;\; margin: 0px\; font-variant-numeric: normal\; font-feature-settings: normal\; font-variant-east-asian: normal\; font-size-adjust: none\; line-height: normal\; font-variant-alternates: normal\; font-kerning: auto\;"><b>There will be entertainment by Last Best Comedy\, food by Bodhi Farms\, a full cash bar by Gute Laune\, and a raffle and silent auction\, not to mention performances by Hawkers!&nbsp\;<span style="border: 0px\; font: inherit\; margin: 0px\; padding: 0px\; vertical-align: baseline\; color: inherit\;">&nbsp\;</span></b></p>\n\n<p style="color: rgb(36\, 36\, 36)\; font-family: &quot\;Helvetica Neue&quot\;\; margin: 0px\; font-variant-east-asian: normal\; font-variant-numeric: normal\; min-height: 15px\; font-feature-settings: normal\; font-size-adjust: none\; line-height: normal\; font-variant-alternates: normal\; font-kerning: auto\;">&nbsp\;</p>\n\n<p style="color: rgb(36\, 36\, 36)\; font-family: &quot\;Helvetica Neue&quot\;\; margin: 0px\; font-variant-numeric: normal\; font-feature-settings: normal\; font-variant-east-asian: normal\; font-size-adjust: none\; line-height: normal\; font-variant-alternates: normal\; font-kerning: auto\;"><b>Buy tickets here:&nbsp\;<a data-auth="NotApplicable" data-linkindex="0" href="https://urldefense.proofpoint.com/v2/url?u=https-3A__www.zeffy.com_en-2DUS_ticketing_hawkers-2Dmake-2Dhistory&amp\;d=DwMFaQ&amp\;c=euGZstcaTDllvimEN8b7jXrwqOf-v5A_CdpgnVfiiMM&amp\;r=R5e4Fsdnv8tN2eO1Oy_jJoKo0_sVyyIUWlCyRYhA2iI&amp\;m=7fvzqOG1DjhaDJVPNm0IydXJZDtpZd-Gt8Bv63lZRXWDKjsJC6dRYW0ZymCH7YVw&amp\;s=y_xazGw_EmPWfwbnQ_g_qug0Pm9VzhQBq5ECSdf5nO8&amp\;e=" style="border: 0px\; font: inherit\; margin: 0px\; padding: 0px\; vertical-align: baseline\;" title="https://urldefense.proofpoint.com/v2/url?u=https-3A__www.zeffy.com_en-2DUS_ticketing_hawkers-2Dmake-2Dhistory&amp\;d=DwMFaQ&amp\;c=euGZstcaTDllvimEN8b7jXrwqOf-v5A_CdpgnVfiiMM&amp\;r=R5e4Fsdnv8tN2eO1Oy_jJoKo0_sVyyIUWlCyRYhA2iI&amp\;m=7fvzqOG1DjhaDJVPNm0IydXJZDtpZd-Gt8Bv63lZRXWDKjsJC6dRYW0ZymCH7YVw&amp\;s=y_xazGw_EmPWfwbnQ_g_qug0Pm9VzhQBq5ECSdf5nO8&amp\;e=">https://www.zeffy.com/en-US/ticketing/hawkers-make-history</a></b></p>\n\n<p style="color: rgb(36\, 36\, 36)\; font-family: &quot\;Helvetica Neue&quot\;\; margin: 0px\; font-variant-numeric: normal\; font-feature-settings: normal\; font-variant-east-asian: normal\; font-size-adjust: none\; line-height: normal\; font-variant-alternates: normal\; font-kerning: auto\;">&nbsp\;</p>\n\n<p style="color: rgb(36\, 36\, 36)\; font-family: &quot\;Helvetica Neue&quot\;\; margin: 0px\; font-variant-numeric: normal\; font-feature-settings: normal\; font-variant-east-asian: normal\; font-size-adjust: none\; line-height: normal\; font-variant-alternates: normal\; font-kerning: auto\;"><b>Website and info:&nbsp\;<a data-auth="NotApplicable" data-linkindex="1" href="https://urldefense.proofpoint.com/v2/url?u=https-3A__www.bozemanhighhawkers.com_hawkers-2Dmake-2Dhistory-2D2026&amp\;d=DwMFaQ&amp\;c=euGZstcaTDllvimEN8b7jXrwqOf-v5A_CdpgnVfiiMM&amp\;r=R5e4Fsdnv8tN2eO1Oy_jJoKo0_sVyyIUWlCyRYhA2iI&amp\;m=7fvzqOG1DjhaDJVPNm0IydXJZDtpZd-Gt8Bv63lZRXWDKjsJC6dRYW0ZymCH7YVw&amp\;s=K5jkfMD6QeLT-qswG-fO0ljln0Cm-IMvcpSt4UTeftE&amp\;e=" style="border: 0px\; font: inherit\; margin: 0px\; padding: 0px\; vertical-align: baseline\;" title="https://urldefense.proofpoint.com/v2/url?u=https-3A__www.bozemanhighhawkers.com_hawkers-2Dmake-2Dhistory-2D2026&amp\;d=DwMFaQ&amp\;c=euGZstcaTDllvimEN8b7jXrwqOf-v5A_CdpgnVfiiMM&amp\;r=R5e4Fsdnv8tN2eO1Oy_jJoKo0_sVyyIUWlCyRYhA2iI&amp\;m=7fvzqOG1DjhaDJVPNm0IydXJZDtpZd-Gt8Bv63lZRXWDKjsJC6dRYW0ZymCH7YVw&amp\;s=K5jkfMD6QeLT-qswG-fO0ljln0Cm-IMvcpSt4UTeftE&amp\;e=">https://www.bozemanhighhawkers.com/hawkers-make-history-2026</a></b></p>\n
LOCATION:
UID:e.2218.21655
SEQUENCE:3
DTSTAMP:20260422T002035Z
URL:https://members.bozemanchamber.com/events/details/hawkers-make-history-21655
END:VEVENT

END:VCALENDAR
