BEGIN:VCALENDAR
VERSION:2.0
PRODID:-//ChamberMaster//Event Calendar 2.0//EN
METHOD:PUBLISH
X-PUBLISHED-TTL:P3D
REFRESH-INTERVAL:P3D
CALSCALE:GREGORIAN
BEGIN:VEVENT
DTSTART:20191210T233000Z
DTEND:20191211T010000Z
X-MICROSOFT-CDO-ALLDAYEVENT:FALSE
SUMMARY:Gallatin Valley Agriculture Committee
DESCRIPTION:
X-ALT-DESC;FMTTYPE=text/html:
LOCATION:The Mint Caf & Bar 27 E. Main St Belgrade
UID:e.2218.6275
SEQUENCE:3
DTSTAMP:20260420T052108Z
URL:https://members.bozemanchamber.com/events/details/gallatin-valley-agriculture-committee-12-10-2019-6275
END:VEVENT

END:VCALENDAR
