BEGIN:VCALENDAR
VERSION:2.0
PRODID:-//ChamberMaster//Event Calendar 2.0//EN
METHOD:PUBLISH
X-PUBLISHED-TTL:P3D
REFRESH-INTERVAL:P3D
CALSCALE:GREGORIAN
BEGIN:VEVENT
DTSTART:20200811T220000Z
DTEND:20200811T230000Z
X-MICROSOFT-CDO-ALLDAYEVENT:FALSE
SUMMARY:Gallatin Valley Agriculture Committee
DESCRIPTION:
X-ALT-DESC;FMTTYPE=text/html:
LOCATION:Belgrade Chamber of Commerce 10 E. Main St. Belgrade\, MT 59714
UID:e.2218.6283
SEQUENCE:3
DTSTAMP:20260419T172344Z
URL:https://members.bozemanchamber.com/events/details/gallatin-valley-agriculture-committee-08-11-2020-6283
END:VEVENT

END:VCALENDAR
