BEGIN:VCALENDAR
VERSION:2.0
PRODID:-//ChamberMaster//Event Calendar 2.0//EN
METHOD:PUBLISH
X-PUBLISHED-TTL:P3D
REFRESH-INTERVAL:P3D
CALSCALE:GREGORIAN
BEGIN:VEVENT
DTSTART:20200314T000000Z
DTEND:20200314T030000Z
X-MICROSOFT-CDO-ALLDAYEVENT:FALSE
SUMMARY:Gallatin Valley Agriculture Appreciation Banquet
DESCRIPTION:The Bozeman Area and Belgrade Chambers hold this annual awards banquet to celebrate the partnership between the Gallatin Valley farming and ranching community and the Gallatin Valley business community. This banquet is also held in recognition of the outstanding farmers and ranches in Gallatin Valley.
X-ALT-DESC;FMTTYPE=text/html:<span style="font-family: arial\; font-size: 14px\; color: rgb(66\, 66\, 66)\; line-height: 24px\;">The Bozeman Area and Belgrade Chambers hold this annual awards banquet to celebrate the partnership between the Gallatin Valley farming and ranching community and the Gallatin Valley business community. This banquet is also held in recognition of the outstanding farmers and ranches in Gallatin Valley.</span><span style="font-family: arial\; font-size: 14px\;">&nbsp\;</span>
LOCATION:Best Western Plus GranTree Inn 1325 N. 7th Ave Bozeman\, MT
UID:e.2218.12764
SEQUENCE:3
DTSTAMP:20260420T004832Z
URL:https://members.bozemanchamber.com/events/details/gallatin-valley-agriculture-appreciation-banquet-12764
END:VEVENT

END:VCALENDAR
