BEGIN:VCALENDAR
VERSION:2.0
PRODID:-//ChamberMaster//Event Calendar 2.0//EN
METHOD:PUBLISH
X-PUBLISHED-TTL:P3D
REFRESH-INTERVAL:P3D
CALSCALE:GREGORIAN
BEGIN:VEVENT
DTSTART:20190604T133000Z
DTEND:20190604T230000Z
X-MICROSOFT-CDO-ALLDAYEVENT:FALSE
SUMMARY:ABC Clinic
DESCRIPTION:This hands-on clinic is specially designed to assist new & established businesses\, accountants\, bookkeepers\, human resource professionals and attorneys by providing a broader understanding and/or steps to implement the latest changes to various law\, rules and regulations.
X-ALT-DESC;FMTTYPE=text/html:<p style="box-sizing: border-box\; margin: 0px 0px 10px\; padding: 0px\; border: 0px\; font-variant-numeric: inherit\; font-variant-east-asian: inherit\; font-stretch: inherit\; font-size: 14px\; font-family: &quot\;Helvetica Neue&quot\;\, Helvetica\, Arial\, sans-serif\; vertical-align: baseline\; line-height: 20px !important\;">This hands-on clinic is specially designed to assist new &amp\; established businesses\, accountants\, bookkeepers\, human resource professionals and attorneys by providing a broader understanding and/or steps to implement the latest changes to various law\, rules and regulations.&nbsp\;</p>\n
LOCATION:Best Western Plus GranTree Inn 1325 N. 7th Ave Bozeman
UID:e.2218.11462
SEQUENCE:3
DTSTAMP:20260422T105941Z
URL:https://members.bozemanchamber.com/events/details/abc-clinic-11462
END:VEVENT

END:VCALENDAR
